BEGIN:VCALENDAR
VERSION:2.0
PRODID:-//Agenda Sant Boi de Llobregat - ECPv5.8.0//NONSGML v1.0//EN
CALSCALE:GREGORIAN
METHOD:PUBLISH
X-WR-CALNAME:Agenda Sant Boi de Llobregat
X-ORIGINAL-URL:https://agendasb.info
X-WR-CALDESC:Esdeveniments per Agenda Sant Boi de Llobregat
BEGIN:VTIMEZONE
TZID:Europe/Madrid
BEGIN:DAYLIGHT
TZOFFSETFROM:+0100
TZOFFSETTO:+0200
TZNAME:CEST
DTSTART:20210328T010000
END:DAYLIGHT
BEGIN:STANDARD
TZOFFSETFROM:+0200
TZOFFSETTO:+0100
TZNAME:CET
DTSTART:20211031T010000
END:STANDARD
END:VTIMEZONE
BEGIN:VEVENT
DTSTART;TZID=Europe/Madrid:20210705T083000
DTEND;TZID=Europe/Madrid:20210725T083000
DTSTAMP:20210725T041907
CREATED:20210701T122454Z
LAST-MODIFIED:20210701T122509Z
UID:10156-1625473800-1627201800@agendasb.info
SUMMARY:Activitat física als parcs
DESCRIPTION:Sessions dirigides per mantenir el cos en forma. \nDilluns de 19.30 a 20.30 h a la plaça de la Bòvila. \nActivitat física de manteniment i intensitat baixa. \n  \nDimarts de 8.30 a 9.30 h a la Torre del Sol. \nEstiraments i tonificació corporal. \n  \nInscripcions en línia i presencial als casals de barri. \n  \nActivitat gratuïta adreçada a persones de 60 anys i més. \nCal portar roba i calçat esportiu\, estoreta i aigua
URL:https://agendasb.info/esdeveniment/activitatfisica/
CATEGORIES:Esports,Gent Gran,Viu l'Estiu
ATTACH;FMTTYPE=image/jpeg:https://agendasb.info/wp-content/uploads/2021/07/ActivitatFisicaAlsParcs.jpg
END:VEVENT
END:VCALENDAR