BEGIN:VCALENDAR
VERSION:2.0
PRODID:-//Agenda Sant Boi de Llobregat - ECPv5.3.1.1//NONSGML v1.0//EN
CALSCALE:GREGORIAN
METHOD:PUBLISH
X-WR-CALNAME:Agenda Sant Boi de Llobregat
X-ORIGINAL-URL:https://agendasb.info
X-WR-CALDESC:Esdeveniments per Agenda Sant Boi de Llobregat
BEGIN:VTIMEZONE
TZID:Europe/Madrid
BEGIN:DAYLIGHT
TZOFFSETFROM:+0100
TZOFFSETTO:+0200
TZNAME:CEST
DTSTART:20210328T010000
END:DAYLIGHT
BEGIN:STANDARD
TZOFFSETFROM:+0200
TZOFFSETTO:+0100
TZNAME:CET
DTSTART:20211031T010000
END:STANDARD
END:VTIMEZONE
BEGIN:VEVENT
DTSTART;TZID=Europe/Madrid:20210128T190000
DTEND;TZID=Europe/Madrid:20210128T190000
DTSTAMP:20210116T194440
CREATED:20210112T081941Z
LAST-MODIFIED:20210113T085355Z
UID:7736-1611860400-1611860400@agendasb.info
SUMMARY:Cinema. Les diabòliques
DESCRIPTION:Les diabòliques\, de Henri-Georges Clouzot.  \nRebobinats         \nLes diabòliques és un thriller de l’any 1955 dirigit per Henri-Georges Clouzot i protagonitzat per Simone Signoret i Véra Clouzot. Aquesta pel·lícula és un incontestable clàssic del cinema criminal francès\, símil de comèdia fosca i opressiva sobre un assassinat imperfecte\, el qual generarà conseqüències imprevisibles. La trama se situa en les claustrofòbiques dependències d’un sòrdid internat de la perifèria de París\, àmbit d’atmosfera i gòtica en el qual té lloc el pacte delictiu entre les dues protagonistes. \nVirtual amb inscripció per telefon a la biblioteca o al formulari que trobareu a: https://bibliotequesdesantboi.wordpress.com/serveis-2/activitats-culturals-i-doci/ \nLloc: Biblioteca Jordi Rubió i Balaguer
URL:https://agendasb.info/esdeveniment/cinema-les-diaboliques/
LOCATION:Biblioteca Jordi Rubió i Balaguer\, Carrer Baldiri Aleu\, 6\, Sant Boi de Llobregat\, Barcelona\, 8830
CATEGORIES:Altres,Arts escèniques
ATTACH;FMTTYPE=image/jpeg:https://agendasb.info/wp-content/uploads/2019/12/rebobinats.jpg
END:VEVENT
END:VCALENDAR