BEGIN:VCALENDAR
VERSION:2.0
PRODID:-//Agenda Sant Boi de Llobregat - ECPv5.6.0//NONSGML v1.0//EN
CALSCALE:GREGORIAN
METHOD:PUBLISH
X-WR-CALNAME:Agenda Sant Boi de Llobregat
X-ORIGINAL-URL:https://agendasb.info
X-WR-CALDESC:Esdeveniments per Agenda Sant Boi de Llobregat
BEGIN:VTIMEZONE
TZID:Europe/Madrid
BEGIN:DAYLIGHT
TZOFFSETFROM:+0100
TZOFFSETTO:+0200
TZNAME:CEST
DTSTART:20210328T010000
END:DAYLIGHT
BEGIN:STANDARD
TZOFFSETFROM:+0200
TZOFFSETTO:+0100
TZNAME:CET
DTSTART:20211031T010000
END:STANDARD
END:VTIMEZONE
BEGIN:VEVENT
DTSTART;TZID=Europe/Madrid:20210410T110000
DTEND;TZID=Europe/Madrid:20210410T110000
DTSTAMP:20210514T002244
CREATED:20210408T110407Z
LAST-MODIFIED:20210409T075517Z
UID:8629-1618052400-1618052400@agendasb.info
SUMMARY:Presentació del llibre "La síndrome del Dr. Strangelove"
DESCRIPTION:Autor: José Antonio Donaire Benito \nSinopsi. Un filòsof vigorèxic\, un traductor atrapat a la cabina\, un agent funerari que visita furtivament els hospitals o uns siamesos sobrevinguts són alguns dels personatges que interpreten “La síndrome del Dr. Strangelove”. Aquest recull de contes és un joc de miralls que dilueix els límits entre la realitat i la ficció\, on els protagonistes vaguen per un escenari de l’absurd a la recerca d’una identitat perduda. Un llibre\, sens dubte\, a l’altura de la millor tradició contista de la nostra literatura. \nEn el marc de la diada de Sant Jordi
URL:https://agendasb.info/esdeveniment/drstrangelove/
LOCATION:Cal Tino (pl. Llorenç Presas)\, Spain
CATEGORIES:Sant Jordi
ATTACH;FMTTYPE=image/jpeg:https://agendasb.info/wp-content/uploads/2021/04/DONAIRE.jpg
END:VEVENT
END:VCALENDAR