BEGIN:VCALENDAR
VERSION:2.0
PRODID:-//Agenda Sant Boi de Llobregat - ECPv5.8.0//NONSGML v1.0//EN
CALSCALE:GREGORIAN
METHOD:PUBLISH
X-WR-CALNAME:Agenda Sant Boi de Llobregat
X-ORIGINAL-URL:https://agendasb.info
X-WR-CALDESC:Esdeveniments per Agenda Sant Boi de Llobregat
BEGIN:VTIMEZONE
TZID:Europe/Madrid
BEGIN:DAYLIGHT
TZOFFSETFROM:+0100
TZOFFSETTO:+0200
TZNAME:CEST
DTSTART:20210328T010000
END:DAYLIGHT
BEGIN:STANDARD
TZOFFSETFROM:+0200
TZOFFSETTO:+0100
TZNAME:CET
DTSTART:20211031T010000
END:STANDARD
END:VTIMEZONE
BEGIN:VEVENT
DTSTART;TZID=Europe/Madrid:20210522T170000
DTEND;TZID=Europe/Madrid:20210522T170000
DTSTAMP:20210725T055504
CREATED:20210512T112905Z
LAST-MODIFIED:20210517T123515Z
UID:9222-1621702800-1621702800@agendasb.info
SUMMARY:Espectacle familiar. "En Ximpa a la Selva"-EXHAURIT
DESCRIPTION:Titelles amb la companyia santboiana Sinilos Produccions. \nSinopsi. En Ximpa\, un mico molt simpàtic\, viu en un racó de la frondosa selva. Un indret ple de colors i amics on divertir-se jugant i gaudint de la llibertat. \nPer a nens i nenes\, de 0 a 6 anys \nEntrades gratuïtes.
URL:https://agendasb.info/esdeveniment/espectacle-familiar-en-ximpa-a-la-selva/
LOCATION:Escola Josep Maria Ciurana\, Carrer Manuel de Falla\, 2\, Sant Boi de Llobregat\, 08830\, Spain
CATEGORIES:Actvitats familiars,Festa Major
ATTACH;FMTTYPE=image/jpeg:https://agendasb.info/wp-content/uploads/2021/05/ximpa1.jpg
END:VEVENT
END:VCALENDAR