BEGIN:VCALENDAR
VERSION:2.0
PRODID:-//Agenda Sant Boi de Llobregat - ECPv5.10.0//NONSGML v1.0//EN
CALSCALE:GREGORIAN
METHOD:PUBLISH
X-WR-CALNAME:Agenda Sant Boi de Llobregat
X-ORIGINAL-URL:https://agendasb.info
X-WR-CALDESC:Esdeveniments per Agenda Sant Boi de Llobregat
BEGIN:VTIMEZONE
TZID:Europe/Madrid
BEGIN:DAYLIGHT
TZOFFSETFROM:+0100
TZOFFSETTO:+0200
TZNAME:CEST
DTSTART:20210328T010000
END:DAYLIGHT
BEGIN:STANDARD
TZOFFSETFROM:+0200
TZOFFSETTO:+0100
TZNAME:CET
DTSTART:20211031T010000
END:STANDARD
END:VTIMEZONE
BEGIN:VEVENT
DTSTART;TZID=Europe/Madrid:20211021T200000
DTEND;TZID=Europe/Madrid:20211021T200000
DTSTAMP:20211128T124636
CREATED:20211007T100803Z
LAST-MODIFIED:20211007T100804Z
UID:11739-1634846400-1634846400@agendasb.info
SUMMARY:Microteatre. A l'escenari
DESCRIPTION:Amb l’obra “La vacuna” \n\n\n\nSinopsi. En Dimitri\, un home rus propietari d’un restaurant a Barcelona i simpatitzant de l’antic partit comunista… \n\n\n\nFuncions de petit format\, de quinze minuts de durada.  \n\n\n\nCal reserva prèvia on line a programaciowellerbar@gmail.com
URL:https://agendasb.info/esdeveniment/microteatre-a-lescenari-2-3/
LOCATION:Cal Ninyo\, Joan Bardina\, 44\, Sant Boi de Llobregat\, Barcelona\, 08830
CATEGORIES:Arts escèniques
ATTACH;FMTTYPE=image/jpeg:https://agendasb.info/wp-content/uploads/2021/10/weller-1.jpg
END:VEVENT
END:VCALENDAR