BEGIN:VCALENDAR
VERSION:2.0
PRODID:-//Agenda Sant Boi de Llobregat - ECPv5.10.0//NONSGML v1.0//EN
CALSCALE:GREGORIAN
METHOD:PUBLISH
X-WR-CALNAME:Agenda Sant Boi de Llobregat
X-ORIGINAL-URL:https://agendasb.info
X-WR-CALDESC:Esdeveniments per Agenda Sant Boi de Llobregat
BEGIN:VTIMEZONE
TZID:Europe/Madrid
BEGIN:DAYLIGHT
TZOFFSETFROM:+0100
TZOFFSETTO:+0200
TZNAME:CEST
DTSTART:20210328T010000
END:DAYLIGHT
BEGIN:STANDARD
TZOFFSETFROM:+0200
TZOFFSETTO:+0100
TZNAME:CET
DTSTART:20211031T010000
END:STANDARD
END:VTIMEZONE
BEGIN:VEVENT
DTSTART;TZID=Europe/Madrid:20211028T200000
DTEND;TZID=Europe/Madrid:20211028T200000
DTSTAMP:20211128T115900
CREATED:20211007T120840Z
LAST-MODIFIED:20211014T082519Z
UID:11748-1635451200-1635451200@agendasb.info
SUMMARY:Microteatre. A l'escenari. Amb l'obra "Soren i la Pantoja"
DESCRIPTION:Amb l’obra “Soren i la Pantoja” \n\n\n\n \n\n\n\nFuncions de petit format\, de quinze minuts de durada.  \n\n\n\nCal reserva prèvia on line a programaciowellerbar@gmail.com
URL:https://agendasb.info/esdeveniment/microteatre-a-lescenari-2-4/
LOCATION:Cal Ninyo\, Joan Bardina\, 44\, Sant Boi de Llobregat\, Barcelona\, 08830
CATEGORIES:Arts escèniques
END:VEVENT
END:VCALENDAR