BEGIN:VCALENDAR
VERSION:2.0
PRODID:-//Agenda Sant Boi de Llobregat - ECPv5.6.0//NONSGML v1.0//EN
CALSCALE:GREGORIAN
METHOD:PUBLISH
X-WR-CALNAME:Agenda Sant Boi de Llobregat
X-ORIGINAL-URL:https://agendasb.info
X-WR-CALDESC:Esdeveniments per Agenda Sant Boi de Llobregat
BEGIN:VTIMEZONE
TZID:Europe/Madrid
BEGIN:DAYLIGHT
TZOFFSETFROM:+0100
TZOFFSETTO:+0200
TZNAME:CEST
DTSTART:20210328T010000
END:DAYLIGHT
BEGIN:STANDARD
TZOFFSETFROM:+0200
TZOFFSETTO:+0100
TZNAME:CET
DTSTART:20211031T010000
END:STANDARD
END:VTIMEZONE
BEGIN:VEVENT
DTSTART;TZID=Europe/Madrid:20210411T120000
DTEND;TZID=Europe/Madrid:20210411T120000
DTSTAMP:20210514T005024
CREATED:20210330T104502Z
LAST-MODIFIED:20210409T142204Z
UID:8194-1618142400-1618142400@agendasb.info
SUMMARY:Teatre familiar. "La Parada dels Somriures"
DESCRIPTION:A càrrec de la companyia Oisha Teatre. \nSinopsi. La nostra protagonista\, la Venedora\, té una clientela fixa\, i ben contenta que la té\, perquè el que li compren somriures i somriures. Gràcies als seus productes tothom pot tapar els mals rient com cal. Un dia una emoció nova es desferma a l’interior de la nostra protagonista\, i aquella alegria transmesa es converteix tota ella en tristor i llàgrimes. I és així com emprèn un viatge interior per entendre i acceptar un nou món d’emocions. \nLa companyia Oisha Teatre\, sota la direcció de Laura Batllori i amb les composicions musicals d’Anna Roig\, presenta un espectacle musical per connectar amb les emocions. \nEdat recomanada: a partir de 6 anys \nEntrades: entrapolis.com
URL:https://agendasb.info/esdeveniment/somriures/
LOCATION:Can Massallera\, Carrer Mallorca\, 30\, Sant Boi de Llobregat\, Barcelona\, 8830\, Espanya
CATEGORIES:Actvitats familiars
ATTACH;FMTTYPE=image/jpeg:https://agendasb.info/wp-content/uploads/2021/03/Parada-somriuresx.jpg
END:VEVENT
END:VCALENDAR