BEGIN:VCALENDAR
VERSION:2.0
PRODID:-//Agenda Sant Boi de Llobregat - ECPv5.2.1//NONSGML v1.0//EN
CALSCALE:GREGORIAN
METHOD:PUBLISH
X-WR-CALNAME:Agenda Sant Boi de Llobregat
X-ORIGINAL-URL:https://agendasb.info
X-WR-CALDESC:Esdeveniments per Agenda Sant Boi de Llobregat
BEGIN:VTIMEZONE
TZID:Europe/Madrid
BEGIN:DAYLIGHT
TZOFFSETFROM:+0100
TZOFFSETTO:+0200
TZNAME:CEST
DTSTART:20200329T010000
END:DAYLIGHT
BEGIN:STANDARD
TZOFFSETFROM:+0200
TZOFFSETTO:+0100
TZNAME:CET
DTSTART:20201025T010000
END:STANDARD
END:VTIMEZONE
BEGIN:VEVENT
DTSTART;TZID=Europe/Madrid:20201020T173000
DTEND;TZID=Europe/Madrid:20201020T173000
DTSTAMP:20201031T000941
CREATED:20201014T122008Z
LAST-MODIFIED:20201014T122008Z
UID:7199-1603215000-1603215000@agendasb.info
SUMMARY:Taller pràctic. Google Classroom
DESCRIPTION:Sobre el funcionament de Google Classroom. Dues sessions complementàries a càrrec de l’Albert López. \nActivitats dirigides a millorar les competències digitals de les famílies \nEn el marc del Programa de formació a famílies curs 2020-2021. \nInscripcions al web: www.santboi.cat Un cop feta\, rebreu un correu amb l’enllaç a la formació. \n 
URL:https://agendasb.info/esdeveniment/taller-practic-google-classroom/2020-10-20/
CATEGORIES:Altres
END:VEVENT
END:VCALENDAR