BEGIN:VCALENDAR
VERSION:2.0
PRODID:-//Agenda Sant Boi de Llobregat - ECPv5.6.0//NONSGML v1.0//EN
CALSCALE:GREGORIAN
METHOD:PUBLISH
X-WR-CALNAME:Agenda Sant Boi de Llobregat
X-ORIGINAL-URL:https://agendasb.info
X-WR-CALDESC:Esdeveniments per Agenda Sant Boi de Llobregat
BEGIN:VTIMEZONE
TZID:Europe/Madrid
BEGIN:DAYLIGHT
TZOFFSETFROM:+0100
TZOFFSETTO:+0200
TZNAME:CEST
DTSTART:20210328T010000
END:DAYLIGHT
BEGIN:STANDARD
TZOFFSETFROM:+0200
TZOFFSETTO:+0100
TZNAME:CET
DTSTART:20211031T010000
END:STANDARD
END:VTIMEZONE
BEGIN:VEVENT
DTSTART;TZID=Europe/Madrid:20210425T120000
DTEND;TZID=Europe/Madrid:20210425T130000
DTSTAMP:20210514T001255
CREATED:20210407T090830Z
LAST-MODIFIED:20210408T084745Z
UID:8198-1619352000-1619355600@agendasb.info
SUMMARY:Teatre familiar. "Crea Contes"
DESCRIPTION:La companyia Gàl.lia presenta una paradeta molt particular: una fàbrica d’històries. \nA l’espectacle\, les aportacions del públic són imprescindibles per anar construint un món d’aventures i personatges esbojarrats on tot és possible. \nAquest espectacle de nova creació és original i dinàmic. La música \, la narració i les arts plàstiques es posen a disposició del públic per crear històries plegats\, un format únic i irrepetible. \nIntèrprets: Mònica Díaz \, Mónica Ballesteros \, Jose M Moreno (guitarra)\, Juan Flores (percussió) i Candela Moreno (cant). \nEspectacle amb totes les mesures sanitàries amb motiu de la pandèmia.
URL:https://agendasb.info/esdeveniment/teatre-familiar-crea-contes/
LOCATION:Can Massallera\, Carrer Mallorca\, 30\, Sant Boi de Llobregat\, Barcelona\, 8830\, Espanya
CATEGORIES:Actvitats familiars,Arts escèniques
ATTACH;FMTTYPE=image/jpeg:https://agendasb.info/wp-content/uploads/2021/03/La-galliaa.jpg
END:VEVENT
END:VCALENDAR